BEGIN:VCALENDAR
VERSION:2.0
PRODID:-//eventon.com NONSGML v1.0//EN
CALSCALE:GREGORIAN
METHOD:PUBLISH
BEGIN:VEVENT
UID:69eb9c492b535
DTSTAMP:20260424T163729Z
DTSTART:20240302
DTEND:20240303
LOCATION:
SUMMARY:Open Pal-Jang
DESCRIPTION:Uitschrijving Open Pal-Jang 2 maart 2024\nhttps://www.taekwondo
 bond.nl/events/open-pal-jang-onder-voorbehoud-2/
URL:https://www.taekwondobond.nl/events/open-pal-jang-onder-voorbehoud-2/
END:VEVENT
END:VCALENDAR