BEGIN:VCALENDAR
VERSION:2.0
PRODID:-//eventon.com NONSGML v1.0//EN
CALSCALE:GREGORIAN
METHOD:PUBLISH
BEGIN:VEVENT
UID:69eb9c41bb94b
DTSTAMP:20260424T163721Z
DTSTART:20241019T000000Z
DTEND:20241020T235900Z
LOCATION:
SUMMARY:51st Dutch Open Taekwondo Championships
DESCRIPTION:Outline 51st Dutch Open 2024 published\nhttps://www.taekwondobo
 nd.nl/events/reservering-tbn-2/
URL:https://www.taekwondobond.nl/events/reservering-tbn-2/
END:VEVENT
END:VCALENDAR