BEGIN:VCALENDAR
VERSION:2.0
PRODID:-//eventon.com NONSGML v1.0//EN
CALSCALE:GREGORIAN
METHOD:PUBLISH
BEGIN:VEVENT
UID:69eb9c49d1cd0
DTSTAMP:20260424T163729Z
DTSTART:20241207
DTEND:20241208
LOCATION:
SUMMARY:NK Sparren
DESCRIPTION:Uitschrijving NK Sparring 2024\nhttps://www.taekwondobond.nl/ev
 ents/nk-sparren-onder-voorbehoud/
URL:https://www.taekwondobond.nl/events/nk-sparren-onder-voorbehoud/
END:VEVENT
END:VCALENDAR