BEGIN:VCALENDAR
VERSION:2.0
PRODID:-//eventon.com NONSGML v1.0//EN
CALSCALE:GREGORIAN
METHOD:PUBLISH
BEGIN:VEVENT
UID:69eb9b90ecb50
DTSTAMP:20260424T163424Z
DTSTART:20241208
DTEND:20241209
LOCATION:
SUMMARY:NK Poomsae
DESCRIPTION:NK PoomsaeFreestyle 2024 uitschrijving\nhttps://www.taekwondobo
 nd.nl/events/nk-poomsae-onder-voorbehoud/
URL:https://www.taekwondobond.nl/events/nk-poomsae-onder-voorbehoud/
END:VEVENT
END:VCALENDAR