BEGIN:VCALENDAR
VERSION:2.0
PRODID:-//eventon.com NONSGML v1.0//EN
CALSCALE:GREGORIAN
METHOD:PUBLISH
BEGIN:VEVENT
UID:69eb9bede7c43
DTSTAMP:20260424T163557Z
DTSTART:20240511
DTEND:20240512
LOCATION:
SUMMARY:Funseminar - district Zuid
DESCRIPTION:UITSCHRIJVING: Funseminar 11 mei 2024 FLYER:\nhttps://www.taekw
 ondobond.nl/events/open-districtskampioenschap-stijl-district-zuid-onder-vo
 orbehoud/
URL:https://www.taekwondobond.nl/events/open-districtskampioenschap-stijl-district-zuid-onder-voorbehoud/
END:VEVENT
END:VCALENDAR