BEGIN:VCALENDAR
VERSION:2.0
PRODID:-//eventon.com NONSGML v1.0//EN
CALSCALE:GREGORIAN
METHOD:PUBLISH
BEGIN:VEVENT
UID:69eb9b4f40a42
DTSTAMP:20260424T163319Z
DTSTART:20231129T194500Z
DTEND:20231129T220000Z
LOCATION:
SUMMARY:Districtsvergadering Zuid-Nederland
DESCRIPTION:oproep en agenda districtsvergadering Zuid 29 november 2023\nht
 tps://www.taekwondobond.nl/events/districtsvergadering-zuid-nederland-10/
URL:https://www.taekwondobond.nl/events/districtsvergadering-zuid-nederland-10/
END:VEVENT
END:VCALENDAR