BEGIN:VCALENDAR
VERSION:2.0
PRODID:-//eventon.com NONSGML v1.0//EN
CALSCALE:GREGORIAN
METHOD:PUBLISH
BEGIN:VEVENT
UID:69eb9c029bf7b
DTSTAMP:20260424T163618Z
DTSTART:20231220T193000Z
DTEND:20231220T223000Z
LOCATION:
SUMMARY:Najaarsvergadering
DESCRIPTION:Oproep najaarsvergadering 2023 Definitieve agenda najaarsvergad
 ering 2023\nhttps://www.taekwondobond.nl/events/najaarsvergadering-8/
URL:https://www.taekwondobond.nl/events/najaarsvergadering-8/
END:VEVENT
END:VCALENDAR