BEGIN:VCALENDAR
VERSION:2.0
PRODID:-//eventon.com NONSGML v1.0//EN
CALSCALE:GREGORIAN
METHOD:PUBLISH
BEGIN:VEVENT
UID:69eb9b69bb1be
DTSTAMP:20260424T163345Z
DTSTART:20240225T093000Z
DTEND:20240225T113000Z
LOCATION:
SUMMARY:Districtsvergadering Noord-Oost
DESCRIPTION:Agenda districtsvergadering Noord-Oost 25 februari 2024\nhttps:
 //www.taekwondobond.nl/events/districtsvergadering-noord-oost-9/
URL:https://www.taekwondobond.nl/events/districtsvergadering-noord-oost-9/
END:VEVENT
END:VCALENDAR