BEGIN:VCALENDAR
VERSION:2.0
PRODID:-//eventon.com NONSGML v1.0//EN
CALSCALE:GREGORIAN
METHOD:PUBLISH
BEGIN:VEVENT
UID:69eb9b972339e
DTSTAMP:20260424T163431Z
DTSTART:20231211T200000Z
DTEND:20231211T220000Z
LOCATION:
SUMMARY:Bijzondere districtsvergadering Zuid-Nederland
DESCRIPTION:Oproep en definitieve agenda bijzondere districtsvergadering Zu
 id 11122023\nhttps://www.taekwondobond.nl/events/bijzondere-districtsvergad
 ering-zuid-nederland/
URL:https://www.taekwondobond.nl/events/bijzondere-districtsvergadering-zuid-nederland/
END:VEVENT
END:VCALENDAR