BEGIN:VCALENDAR
VERSION:2.0
PRODID:-//eventon.com NONSGML v1.0//EN
CALSCALE:GREGORIAN
METHOD:PUBLISH
BEGIN:VEVENT
UID:69eb9b913d055
DTSTAMP:20260424T163425Z
DTSTART:20240927T000000Z
DTEND:20240929T235900Z
LOCATION:
SUMMARY:Taekwondokamp
DESCRIPTION:Info via: www.taekwondoactiviteiten.nl\nhttps://www.taekwondobo
 nd.nl/events/taekwondokamp-2/
URL:https://www.taekwondobond.nl/events/taekwondokamp-2/
END:VEVENT
END:VCALENDAR