BEGIN:VCALENDAR
VERSION:2.0
PRODID:-//eventon.com NONSGML v1.0//EN
CALSCALE:GREGORIAN
METHOD:PUBLISH
BEGIN:VEVENT
UID:69eb9bb125a34
DTSTAMP:20260424T163457Z
DTSTART:20240518T100000Z
DTEND:20240518T160000Z
LOCATION:
SUMMARY:Stijljurycursus
DESCRIPTION:Stijljurycursus mei 2024\nhttps://www.taekwondobond.nl/events/s
 tijljurycursus-8/
URL:https://www.taekwondobond.nl/events/stijljurycursus-8/
END:VEVENT
END:VCALENDAR