BEGIN:VCALENDAR
VERSION:2.0
PRODID:-//eventon.com NONSGML v1.0//EN
CALSCALE:GREGORIAN
METHOD:PUBLISH
BEGIN:VEVENT
UID:69eb9b927cd17
DTSTAMP:20260424T163426Z
DTSTART:20240331T100000Z
DTEND:20240401T160000Z
LOCATION:
SUMMARY:Taekwondo seminar
DESCRIPTION:Dang Dinh Ky Tu Pasen 2024\nhttps://www.taekwondobond.nl/events
 /taekwondo-seminar/
URL:https://www.taekwondobond.nl/events/taekwondo-seminar/
END:VEVENT
END:VCALENDAR