BEGIN:VCALENDAR
VERSION:2.0
PRODID:-//eventon.com NONSGML v1.0//EN
CALSCALE:GREGORIAN
METHOD:PUBLISH
BEGIN:VEVENT
UID:69e5f8bf271e2
DTSTAMP:20260420T095823Z
DTSTART:20240421
DTEND:20240422
LOCATION:
SUMMARY:Districtsvergadering Noord-Oost
DESCRIPTION:Voorlopige agenda districtsvergadering noordoost 21 april 2024 
 Definitieve agenda districtsvergadering Noord-Oost 21 april 2024\nhttps://w
 ww.taekwondobond.nl/events/districtsvergadering-noord-oost-10/
URL:https://www.taekwondobond.nl/events/districtsvergadering-noord-oost-10/
END:VEVENT
END:VCALENDAR