BEGIN:VCALENDAR
VERSION:2.0
PRODID:-//eventon.com NONSGML v1.0//EN
CALSCALE:GREGORIAN
METHOD:PUBLISH
BEGIN:VEVENT
UID:69eb9c4188c40
DTSTAMP:20260424T163721Z
DTSTART:20240421T100000Z
DTEND:20240421T140000Z
LOCATION:
SUMMARY:Districtstraining Zuid - stijl & sparring (breedtesport)
DESCRIPTION:\nhttps://www.taekwondobond.nl/events/districtstraining-zuid-st
 ijl-sparring-breedtesport/
URL:https://www.taekwondobond.nl/events/districtstraining-zuid-stijl-sparring-breedtesport/
END:VEVENT
END:VCALENDAR