BEGIN:VCALENDAR
VERSION:2.0
PRODID:-//eventon.com NONSGML v1.0//EN
CALSCALE:GREGORIAN
METHOD:PUBLISH
BEGIN:VEVENT
UID:69e5f8ca09048
DTSTAMP:20260420T095834Z
DTSTART:20240616T100000Z
DTEND:20240616T140000Z
LOCATION:
SUMMARY:Districtstraining Zuid - stijl & sparring (breedtesport)
DESCRIPTION:\nhttps://www.taekwondobond.nl/events/districtstraining-zuid-st
 ijl-sparring-breedtesport-2/
URL:https://www.taekwondobond.nl/events/districtstraining-zuid-stijl-sparring-breedtesport-2/
END:VEVENT
END:VCALENDAR