BEGIN:VCALENDAR
VERSION:2.0
PRODID:-//eventon.com NONSGML v1.0//EN
CALSCALE:GREGORIAN
METHOD:PUBLISH
BEGIN:VEVENT
UID:69eb9c48d0bcd
DTSTAMP:20260424T163728Z
DTSTART:20240410T193000Z
DTEND:20240410T220000Z
LOCATION:
SUMMARY:Districtsvergadering Zuid
DESCRIPTION:oproep en agenda districtsvergadering Zuid 10 april 2024\nhttps
 ://www.taekwondobond.nl/events/districtsvergadering-zuid/
URL:https://www.taekwondobond.nl/events/districtsvergadering-zuid/
END:VEVENT
END:VCALENDAR