BEGIN:VCALENDAR
VERSION:2.0
PRODID:-//eventon.com NONSGML v1.0//EN
CALSCALE:GREGORIAN
METHOD:PUBLISH
BEGIN:VEVENT
UID:69eb9b69bb18e
DTSTAMP:20260424T163345Z
DTSTART:20240914
DTEND:20240915
LOCATION:
SUMMARY:Open District Zuid Poomsae Kampioenschap
DESCRIPTION:Uitschrijving Open District Zuid Poomsae 2024 (versie 2)\nhttps
 ://www.taekwondobond.nl/events/districtstoernooi-zuid-stijl/
URL:https://www.taekwondobond.nl/events/districtstoernooi-zuid-stijl/
END:VEVENT
END:VCALENDAR