BEGIN:VCALENDAR
VERSION:2.0
PRODID:-//eventon.com NONSGML v1.0//EN
CALSCALE:GREGORIAN
METHOD:PUBLISH
BEGIN:VEVENT
UID:69eb9c0385371
DTSTAMP:20260424T163619Z
DTSTART:20240915
DTEND:20240916
LOCATION:
SUMMARY:Open District Zuid Sparring Kampioenschap
DESCRIPTION:Uitschrijving Open District Zuid Sparring 2024\nhttps://www.tae
 kwondobond.nl/events/districtstoernooi-zuid-sparring/
URL:https://www.taekwondobond.nl/events/districtstoernooi-zuid-sparring/
END:VEVENT
END:VCALENDAR