BEGIN:VCALENDAR
VERSION:2.0
PRODID:-//eventon.com NONSGML v1.0//EN
CALSCALE:GREGORIAN
METHOD:PUBLISH
BEGIN:VEVENT
UID:69e5e398e97c4
DTSTAMP:20260420T082808Z
DTSTART:20240511
DTEND:20240512
LOCATION:
SUMMARY:Nationaal herexamen
DESCRIPTION:Uitschrijving nationaal herexamen 11 mei 2024\nhttps://www.taek
 wondobond.nl/events/nationaal-herexamen-2/
URL:https://www.taekwondobond.nl/events/nationaal-herexamen-2/
END:VEVENT
END:VCALENDAR