BEGIN:VCALENDAR
VERSION:2.0
PRODID:-//eventon.com NONSGML v1.0//EN
CALSCALE:GREGORIAN
METHOD:PUBLISH
BEGIN:VEVENT
UID:69eb9c47e9442
DTSTAMP:20260424T163727Z
DTSTART:20240420T100000Z
DTEND:20240420T163000Z
LOCATION:
SUMMARY:Wedstrijdreglementencursus sparring
DESCRIPTION:Wedstrijdreglementencursus april 2024\nhttps://www.taekwondobon
 d.nl/events/wedstrijdreglementencursus-sparring/
URL:https://www.taekwondobond.nl/events/wedstrijdreglementencursus-sparring/
END:VEVENT
END:VCALENDAR