BEGIN:VCALENDAR
VERSION:2.0
PRODID:-//eventon.com NONSGML v1.0//EN
CALSCALE:GREGORIAN
METHOD:PUBLISH
BEGIN:VEVENT
UID:69eb9bb1e673c
DTSTAMP:20260424T163457Z
DTSTART:20241117
DTEND:20241118
LOCATION:
SUMMARY:Stijljurycursus
DESCRIPTION:Stijljurycursus november 2024\nhttps://www.taekwondobond.nl/eve
 nts/stijljurycursus-9/
URL:https://www.taekwondobond.nl/events/stijljurycursus-9/
END:VEVENT
END:VCALENDAR