BEGIN:VCALENDAR
VERSION:2.0
PRODID:-//eventon.com NONSGML v1.0//EN
CALSCALE:GREGORIAN
METHOD:PUBLISH
BEGIN:VEVENT
UID:69e7374fad3f1
DTSTAMP:20260421T083735Z
DTSTART:20240525
DTEND:20240526
LOCATION:
SUMMARY:Taekwondo event regio Almere
DESCRIPTION:Sporthal Waterwijk\nhttps://www.taekwondobond.nl/events/taekwon
 do-event-regio-almere/
URL:https://www.taekwondobond.nl/events/taekwondo-event-regio-almere/
END:VEVENT
END:VCALENDAR