BEGIN:VCALENDAR
VERSION:2.0
PRODID:-//eventon.com NONSGML v1.0//EN
CALSCALE:GREGORIAN
METHOD:PUBLISH
BEGIN:VEVENT
UID:69eb9c4d8f0c2
DTSTAMP:20260424T163733Z
DTSTART:20250413
DTEND:20250414
LOCATION:
SUMMARY:Open districtskampioenschap stijl - district Noord-Oost
DESCRIPTION:Uitschrijving: Open District NoordOost Poomsae kampioenschap 20
 25 &nbsp; Poster: Open Districtskampioenschappen Poomsae Noord-Oost 2025\nh
 ttps://www.taekwondobond.nl/events/open-districtskampioenschap-stijl-distri
 ct-noord-oost-3/
URL:https://www.taekwondobond.nl/events/open-districtskampioenschap-stijl-district-noord-oost-3/
END:VEVENT
END:VCALENDAR