BEGIN:VCALENDAR
VERSION:2.0
PRODID:-//eventon.com NONSGML v1.0//EN
CALSCALE:GREGORIAN
METHOD:PUBLISH
BEGIN:VEVENT
UID:69eb9c48b83eb
DTSTAMP:20260424T163728Z
DTSTART:20240626T193000Z
DTEND:20240626T230000Z
LOCATION:
SUMMARY:Voorjaarsvergadering
DESCRIPTION:0024_21 Oproep voorjaarsvergadering 2024 0024_22 Definitieve ag
 enda voorjaarsvergadering 2024\nhttps://www.taekwondobond.nl/events/voorjaa
 rsvergadering-8/
URL:https://www.taekwondobond.nl/events/voorjaarsvergadering-8/
END:VEVENT
END:VCALENDAR