BEGIN:VCALENDAR
VERSION:2.0
PRODID:-//eventon.com NONSGML v1.0//EN
CALSCALE:GREGORIAN
METHOD:PUBLISH
BEGIN:VEVENT
UID:69eb9bd9b7742
DTSTAMP:20260424T163537Z
DTSTART:20240602
DTEND:20240603
LOCATION:
SUMMARY:Danvoorbereidingstraining
DESCRIPTION:Uitschrijving danvoorbereidingstraining 2 juni 2024\nhttps://ww
 w.taekwondobond.nl/events/danvoorbereidingscursus/
URL:https://www.taekwondobond.nl/events/danvoorbereidingscursus/
END:VEVENT
END:VCALENDAR