BEGIN:VCALENDAR
VERSION:2.0
PRODID:-//eventon.com NONSGML v1.0//EN
CALSCALE:GREGORIAN
METHOD:PUBLISH
BEGIN:VEVENT
UID:69e5f6f39d9c6
DTSTAMP:20260420T095043Z
DTSTART:20241201
DTEND:20241202
LOCATION:
SUMMARY:Yoo Sin Open Poomsae 2024
DESCRIPTION:Yoo-Sin Open Poomsae 2024\nhttps://www.taekwondobond.nl/events/
 yoo-sin-open-poomsae-2024-onder-voorbehoud/
URL:https://www.taekwondobond.nl/events/yoo-sin-open-poomsae-2024-onder-voorbehoud/
END:VEVENT
END:VCALENDAR