BEGIN:VCALENDAR
VERSION:2.0
PRODID:-//eventon.com NONSGML v1.0//EN
CALSCALE:GREGORIAN
METHOD:PUBLISH
BEGIN:VEVENT
UID:69eb9bf3be6c3
DTSTAMP:20260424T163603Z
DTSTART:20240623
DTEND:20240624
LOCATION:
SUMMARY:Open Sparringsdag
DESCRIPTION:\nhttps://www.taekwondobond.nl/events/open-sparringsdag/
URL:https://www.taekwondobond.nl/events/open-sparringsdag/
END:VEVENT
END:VCALENDAR