BEGIN:VCALENDAR
VERSION:2.0
PRODID:-//eventon.com NONSGML v1.0//EN
CALSCALE:GREGORIAN
METHOD:PUBLISH
BEGIN:VEVENT
UID:69eb9bede7b93
DTSTAMP:20260424T163557Z
DTSTART:20240615
DTEND:20240616
LOCATION:
SUMMARY:Taekwondo Fundag Noord-Oost
DESCRIPTION:Clubs kunnen hun sporters aanmelden via: aanmeldformulier Funda
 g 24 juni\nhttps://www.taekwondobond.nl/events/taekwondo-fundag-noord-oost/
URL:https://www.taekwondobond.nl/events/taekwondo-fundag-noord-oost/
END:VEVENT
END:VCALENDAR