BEGIN:VCALENDAR
VERSION:2.0
PRODID:-//eventon.com NONSGML v1.0//EN
CALSCALE:GREGORIAN
METHOD:PUBLISH
BEGIN:VEVENT
UID:69eb9bb10d963
DTSTAMP:20260424T163457Z
DTSTART:20250607
DTEND:20250608
LOCATION:
SUMMARY:Open Districtskampioenschap Stijl - district West
DESCRIPTION:Uitschrijving Open District West Poomsae 7 juni 2025\nhttps://w
 ww.taekwondobond.nl/events/open-districtskampioenschap-stijl-district-west-
 onder-voorbehoud-2/
URL:https://www.taekwondobond.nl/events/open-districtskampioenschap-stijl-district-west-onder-voorbehoud-2/
END:VEVENT
END:VCALENDAR