BEGIN:VCALENDAR
VERSION:2.0
PRODID:-//eventon.com NONSGML v1.0//EN
CALSCALE:GREGORIAN
METHOD:PUBLISH
BEGIN:VEVENT
UID:69eb9b4a107fc
DTSTAMP:20260424T163314Z
DTSTART:20251011
DTEND:20251012
LOCATION:
SUMMARY:Max Thumann cup Kyorugi
DESCRIPTION:Max Thumann cup Kyorugi 2025_new &nbsp;\nhttps://www.taekwondob
 ond.nl/events/max-thumann-cup-kyorugi/
URL:https://www.taekwondobond.nl/events/max-thumann-cup-kyorugi/
END:VEVENT
END:VCALENDAR