BEGIN:VCALENDAR
VERSION:2.0
PRODID:-//eventon.com NONSGML v1.0//EN
CALSCALE:GREGORIAN
METHOD:PUBLISH
BEGIN:VEVENT
UID:69eb9c41d7d4c
DTSTAMP:20260424T163721Z
DTSTART:20251012
DTEND:20251013
LOCATION:
SUMMARY:Max Thumann cup Poomsae
DESCRIPTION:Max_Thumann_cup_Poomsae Freestyle &amp; Para-poomsae 2025 &nbsp
 ;\nhttps://www.taekwondobond.nl/events/max-thumann-cup-poomsae-over-voorbeh
 oud/
URL:https://www.taekwondobond.nl/events/max-thumann-cup-poomsae-over-voorbehoud/
END:VEVENT
END:VCALENDAR