BEGIN:VCALENDAR
VERSION:2.0
PRODID:-//eventon.com NONSGML v1.0//EN
CALSCALE:GREGORIAN
METHOD:PUBLISH
BEGIN:VEVENT
UID:69eb9c40e593f
DTSTAMP:20260424T163720Z
DTSTART:20241111T000000Z
DTEND:20241117T235900Z
LOCATION:
SUMMARY:Week van Respect
DESCRIPTION:Week van Respect\nhttps://www.taekwondobond.nl/events/week-van-
 respect/
URL:https://www.taekwondobond.nl/events/week-van-respect/
END:VEVENT
END:VCALENDAR