BEGIN:VCALENDAR
VERSION:2.0
PRODID:-//eventon.com NONSGML v1.0//EN
CALSCALE:GREGORIAN
METHOD:PUBLISH
BEGIN:VEVENT
UID:69eb9b97b9ead
DTSTAMP:20260424T163431Z
DTSTART:20241026
DTEND:20241027
LOCATION:
SUMMARY:Nationaal herexamen
DESCRIPTION:Uitschrijving nationaal herexamen 26 oktober 2024\nhttps://www.
 taekwondobond.nl/events/nationaal-herexamen-onder-voorbehoud/
URL:https://www.taekwondobond.nl/events/nationaal-herexamen-onder-voorbehoud/
END:VEVENT
END:VCALENDAR