BEGIN:VCALENDAR
VERSION:2.0
PRODID:-//eventon.com NONSGML v1.0//EN
CALSCALE:GREGORIAN
METHOD:PUBLISH
BEGIN:VEVENT
UID:69eb9b97245b6
DTSTAMP:20260424T163431Z
DTSTART:20241026
DTEND:20241027
LOCATION:
SUMMARY:Danvoorbereidingstraining
DESCRIPTION:Uitschrijving danvoorbereidingstraining 26 oktober 2024\nhttps:
 //www.taekwondobond.nl/events/danvoorbereidingstraining-onder-voorbehoud-3/
URL:https://www.taekwondobond.nl/events/danvoorbereidingstraining-onder-voorbehoud-3/
END:VEVENT
END:VCALENDAR