BEGIN:VCALENDAR
VERSION:2.0
PRODID:-//eventon.com NONSGML v1.0//EN
CALSCALE:GREGORIAN
METHOD:PUBLISH
BEGIN:VEVENT
UID:69eb9b6a4cc3f
DTSTAMP:20260424T163346Z
DTSTART:20241026
DTEND:20241027
LOCATION:
SUMMARY:Trainersbijscholing
DESCRIPTION:Uitschrijving trainersbijscholing 26 oktober 2024\nhttps://www.
 taekwondobond.nl/events/trainersbijscholing-onder-voorbehoud/
URL:https://www.taekwondobond.nl/events/trainersbijscholing-onder-voorbehoud/
END:VEVENT
END:VCALENDAR