BEGIN:VCALENDAR
VERSION:2.0
PRODID:-//eventon.com NONSGML v1.0//EN
CALSCALE:GREGORIAN
METHOD:PUBLISH
BEGIN:VEVENT
UID:69eb9bf4b6066
DTSTAMP:20260424T163604Z
DTSTART:20241214
DTEND:20241215
LOCATION:
SUMMARY:Nationaal danexamen
DESCRIPTION:uitschrijving nationaal danexamen 14 december 2024\nhttps://www
 .taekwondobond.nl/events/nationaal-danexamen-onder-voorbehoud-3/
URL:https://www.taekwondobond.nl/events/nationaal-danexamen-onder-voorbehoud-3/
END:VEVENT
END:VCALENDAR