BEGIN:VCALENDAR
VERSION:2.0
PRODID:-//eventon.com NONSGML v1.0//EN
CALSCALE:GREGORIAN
METHOD:PUBLISH
BEGIN:VEVENT
UID:69eb9bda8599e
DTSTAMP:20260424T163538Z
DTSTART:20250412
DTEND:20250413
LOCATION:
SUMMARY:Open Pal-Jang Sparring
DESCRIPTION:Open Pal-Jang 12 April 2025 uitschrijving (1)\nhttps://www.taek
 wondobond.nl/events/open-pal-jang-onder-voorbehoud-3/
URL:https://www.taekwondobond.nl/events/open-pal-jang-onder-voorbehoud-3/
END:VEVENT
END:VCALENDAR