BEGIN:VCALENDAR
VERSION:2.0
PRODID:-//eventon.com NONSGML v1.0//EN
CALSCALE:GREGORIAN
METHOD:PUBLISH
BEGIN:VEVENT
UID:69eb9c41b4e9e
DTSTAMP:20260424T163721Z
DTSTART:20240908T100000Z
DTEND:20240908T140000Z
LOCATION:
SUMMARY:Regionale training stijlteam West
DESCRIPTION:Regionale training stijlteam West\nhttps://www.taekwondobond.nl
 /events/regionale-training-stijlteam-west-22/
URL:https://www.taekwondobond.nl/events/regionale-training-stijlteam-west-22/
END:VEVENT
END:VCALENDAR