BEGIN:VCALENDAR
VERSION:2.0
PRODID:-//eventon.com NONSGML v1.0//EN
CALSCALE:GREGORIAN
METHOD:PUBLISH
BEGIN:VEVENT
UID:69eb9bd9d0608
DTSTAMP:20260424T163537Z
DTSTART:20241006T100000Z
DTEND:20241006T140000Z
LOCATION:
SUMMARY:Regionale training stijlteam West
DESCRIPTION:Regionale training stijlteam West\nhttps://www.taekwondobond.nl
 /events/regionale-training-stijlteam-west-23/
URL:https://www.taekwondobond.nl/events/regionale-training-stijlteam-west-23/
END:VEVENT
END:VCALENDAR