BEGIN:VCALENDAR
VERSION:2.0
PRODID:-//eventon.com NONSGML v1.0//EN
CALSCALE:GREGORIAN
METHOD:PUBLISH
BEGIN:VEVENT
UID:69eb9c4084e72
DTSTAMP:20260424T163720Z
DTSTART:20250112T100000Z
DTEND:20250112T140000Z
LOCATION:
SUMMARY:Regionale training stijlteam West
DESCRIPTION:Regionale training stijlteam West\nhttps://www.taekwondobond.nl
 /events/regionale-training-stijlteam-west-26/
URL:https://www.taekwondobond.nl/events/regionale-training-stijlteam-west-26/
END:VEVENT
END:VCALENDAR