BEGIN:VCALENDAR
VERSION:2.0
PRODID:-//eventon.com NONSGML v1.0//EN
CALSCALE:GREGORIAN
METHOD:PUBLISH
BEGIN:VEVENT
UID:69eb9bdacced3
DTSTAMP:20260424T163538Z
DTSTART:20250209T100000Z
DTEND:20250209T140000Z
LOCATION:
SUMMARY:Regionale training stijlteam West
DESCRIPTION:Regionale training stijlteam West\nhttps://www.taekwondobond.nl
 /events/regionale-training-stijlteam-west-27/
URL:https://www.taekwondobond.nl/events/regionale-training-stijlteam-west-27/
END:VEVENT
END:VCALENDAR