BEGIN:VCALENDAR
VERSION:2.0
PRODID:-//eventon.com NONSGML v1.0//EN
CALSCALE:GREGORIAN
METHOD:PUBLISH
BEGIN:VEVENT
UID:69e5f8c3abe2b
DTSTAMP:20260420T095827Z
DTSTART:20250518T100000Z
DTEND:20250518T140000Z
LOCATION:
SUMMARY:Regionale training stijlteam West
DESCRIPTION:Regionale training stijlteam West\nhttps://www.taekwondobond.nl
 /events/regionale-training-stijlteam-west-30/
URL:https://www.taekwondobond.nl/events/regionale-training-stijlteam-west-30/
END:VEVENT
END:VCALENDAR