BEGIN:VCALENDAR
VERSION:2.0
PRODID:-//eventon.com NONSGML v1.0//EN
CALSCALE:GREGORIAN
METHOD:PUBLISH
BEGIN:VEVENT
UID:69eb9beed4857
DTSTAMP:20260424T163558Z
DTSTART:20250706T100000Z
DTEND:20250706T140000Z
LOCATION:
SUMMARY:Regionale training stijlteam West
DESCRIPTION:Regionale training stijlteam West\nhttps://www.taekwondobond.nl
 /events/regionale-training-stijlteam-west-32/
URL:https://www.taekwondobond.nl/events/regionale-training-stijlteam-west-32/
END:VEVENT
END:VCALENDAR