BEGIN:VCALENDAR
VERSION:2.0
PRODID:-//eventon.com NONSGML v1.0//EN
CALSCALE:GREGORIAN
METHOD:PUBLISH
BEGIN:VEVENT
UID:69eb9c419f498
DTSTAMP:20260424T163721Z
DTSTART:20250308T090000Z
DTEND:20250309T180000Z
LOCATION:
SUMMARY:52nd Dutch Open Sparring 2025
DESCRIPTION:Outline Dutch Open 2025 &nbsp;\nhttps://www.taekwondobond.nl/ev
 ents/dutch-open-sparring-under-proviso/
URL:https://www.taekwondobond.nl/events/dutch-open-sparring-under-proviso/
END:VEVENT
END:VCALENDAR