BEGIN:VCALENDAR
VERSION:2.0
PRODID:-//eventon.com NONSGML v1.0//EN
CALSCALE:GREGORIAN
METHOD:PUBLISH
BEGIN:VEVENT
UID:69eb9c029c525
DTSTAMP:20260424T163618Z
DTSTART:20241102
DTEND:20241103
LOCATION:
SUMMARY:Wedstrijdreglementencursus
DESCRIPTION:Wedstrijdreglementencursus november 2024\nhttps://www.taekwondo
 bond.nl/events/wedstrijdreglementencursus-13/
URL:https://www.taekwondobond.nl/events/wedstrijdreglementencursus-13/
END:VEVENT
END:VCALENDAR