BEGIN:VCALENDAR
VERSION:2.0
PRODID:-//eventon.com NONSGML v1.0//EN
CALSCALE:GREGORIAN
METHOD:PUBLISH
BEGIN:VEVENT
UID:69eb9b4d4abe6
DTSTAMP:20260424T163317Z
DTSTART:20241116T100000Z
DTEND:20241116T120000Z
LOCATION:
SUMMARY:Districtsvergadering Zuid-Nederland
DESCRIPTION:0002_24 dz oproep en definitieve agenda districtsvergadering Zu
 id\nhttps://www.taekwondobond.nl/events/districtsvergadering-zuid-nederland
 -11/
URL:https://www.taekwondobond.nl/events/districtsvergadering-zuid-nederland-11/
END:VEVENT
END:VCALENDAR