BEGIN:VCALENDAR
VERSION:2.0
PRODID:-//eventon.com NONSGML v1.0//EN
CALSCALE:GREGORIAN
METHOD:PUBLISH
BEGIN:VEVENT
UID:69eb9bef8ff40
DTSTAMP:20260424T163559Z
DTSTART:20241207
DTEND:20241208
LOCATION:
SUMMARY:Nationaal B-klasse toernooi Sparren
DESCRIPTION:Uitschrijving Nationaal B-klasse Toernooi 2024\nhttps://www.tae
 kwondobond.nl/events/nationaal-b-klasse-toernooi-sparren/
URL:https://www.taekwondobond.nl/events/nationaal-b-klasse-toernooi-sparren/
END:VEVENT
END:VCALENDAR