BEGIN:VCALENDAR
VERSION:2.0
PRODID:-//eventon.com NONSGML v1.0//EN
CALSCALE:GREGORIAN
METHOD:PUBLISH
BEGIN:VEVENT
UID:69eb9bef27c79
DTSTAMP:20260424T163559Z
DTSTART:20250126
DTEND:20250127
LOCATION:
SUMMARY:Districtstraining stijl en sparring district Zuid
DESCRIPTION:\nhttps://www.taekwondobond.nl/events/regiotraining-stijl-en-sp
 arring-onder-voorbehoud/
URL:https://www.taekwondobond.nl/events/regiotraining-stijl-en-sparring-onder-voorbehoud/
END:VEVENT
END:VCALENDAR