BEGIN:VCALENDAR
VERSION:2.0
PRODID:-//eventon.com NONSGML v1.0//EN
CALSCALE:GREGORIAN
METHOD:PUBLISH
BEGIN:VEVENT
UID:69eb9bf46c0da
DTSTAMP:20260424T163604Z
DTSTART:20251109T100000Z
DTEND:20251109T140000Z
LOCATION:
SUMMARY:Districtstraining stijl en sparring district Zuid
DESCRIPTION:\nhttps://www.taekwondobond.nl/events/regiotraining-stijl-en-sp
 arring-onder-voorbehoud-3/
URL:https://www.taekwondobond.nl/events/regiotraining-stijl-en-sparring-onder-voorbehoud-3/
END:VEVENT
END:VCALENDAR