BEGIN:VCALENDAR
VERSION:2.0
PRODID:-//eventon.com NONSGML v1.0//EN
CALSCALE:GREGORIAN
METHOD:PUBLISH
BEGIN:VEVENT
UID:69eb9bda6aaac
DTSTAMP:20260424T163538Z
DTSTART:20250531T100000Z
DTEND:20250531T140000Z
LOCATION:
SUMMARY:Funseminar district Zuid
DESCRIPTION:Uitschrijving_Fun_Seminar_District_Zuid_v2025-1 &nbsp;\nhttps:/
 /www.taekwondobond.nl/events/funseminar-onder-voorbehoud/
URL:https://www.taekwondobond.nl/events/funseminar-onder-voorbehoud/
END:VEVENT
END:VCALENDAR